BEGIN:VCALENDAR
VERSION:2.0
PRODID:-//Chattanooga High School Center for Creative Arts - ECPv6.15.20//NONSGML v1.0//EN
CALSCALE:GREGORIAN
METHOD:PUBLISH
X-WR-CALNAME:Chattanooga High School Center for Creative Arts
X-ORIGINAL-URL:https://cca.hcde.org
X-WR-CALDESC:Events for Chattanooga High School Center for Creative Arts
REFRESH-INTERVAL;VALUE=DURATION:PT1H
X-Robots-Tag:noindex
X-PUBLISHED-TTL:PT1H
BEGIN:VTIMEZONE
TZID:America/New_York
BEGIN:DAYLIGHT
TZOFFSETFROM:-0500
TZOFFSETTO:-0400
TZNAME:EDT
DTSTART:20250309T070000
END:DAYLIGHT
BEGIN:STANDARD
TZOFFSETFROM:-0400
TZOFFSETTO:-0500
TZNAME:EST
DTSTART:20251102T060000
END:STANDARD
BEGIN:DAYLIGHT
TZOFFSETFROM:-0500
TZOFFSETTO:-0400
TZNAME:EDT
DTSTART:20260308T070000
END:DAYLIGHT
BEGIN:STANDARD
TZOFFSETFROM:-0400
TZOFFSETTO:-0500
TZNAME:EST
DTSTART:20261101T060000
END:STANDARD
BEGIN:DAYLIGHT
TZOFFSETFROM:-0500
TZOFFSETTO:-0400
TZNAME:EDT
DTSTART:20270314T070000
END:DAYLIGHT
BEGIN:STANDARD
TZOFFSETFROM:-0400
TZOFFSETTO:-0500
TZNAME:EST
DTSTART:20271107T060000
END:STANDARD
END:VTIMEZONE
BEGIN:VEVENT
DTSTART;TZID=America/New_York:20260313T100000
DTEND;TZID=America/New_York:20260313T120000
DTSTAMP:20260423T222556
CREATED:20250929T182341Z
LAST-MODIFIED:20250929T182341Z
UID:10000133-1773396000-1773403200@cca.hcde.org
SUMMARY:Finale
DESCRIPTION:
URL:https://cca.hcde.org/event/finale-3/
LOCATION:CCA\, 1301 Dallas Road\, Chattanooga\, TN\, 37405\, United States
END:VEVENT
BEGIN:VEVENT
DTSTART;VALUE=DATE:20260313
DTEND;VALUE=DATE:20260314
DTSTAMP:20260423T222556
CREATED:20250929T182313Z
LAST-MODIFIED:20250929T182313Z
UID:10000132-1773360000-1773446399@cca.hcde.org
SUMMARY:Half Day/End of 3rd Quarter
DESCRIPTION:
URL:https://cca.hcde.org/event/half-day-end-of-3rd-quarter/
END:VEVENT
BEGIN:VEVENT
DTSTART;TZID=America/New_York:20260312T190000
DTEND;TZID=America/New_York:20260312T210000
DTSTAMP:20260423T222556
CREATED:20250929T182249Z
LAST-MODIFIED:20250929T182249Z
UID:10000131-1773342000-1773349200@cca.hcde.org
SUMMARY:String Orchestra Concert
DESCRIPTION:
URL:https://cca.hcde.org/event/string-orchestra-concert-2/
LOCATION:CCA\, 1301 Dallas Road\, Chattanooga\, TN\, 37405\, United States
END:VEVENT
BEGIN:VEVENT
DTSTART;TZID=America/New_York:20260308T143000
DTEND;TZID=America/New_York:20260308T170000
DTSTAMP:20260423T222556
CREATED:20250929T182217Z
LAST-MODIFIED:20250929T182217Z
UID:10000130-1772980200-1772989200@cca.hcde.org
SUMMARY:The Importance of Being Earnest
DESCRIPTION:
URL:https://cca.hcde.org/event/the-importance-of-being-earnest-3/
LOCATION:CCA\, 1301 Dallas Road\, Chattanooga\, TN\, 37405\, United States
END:VEVENT
BEGIN:VEVENT
DTSTART;TZID=America/New_York:20260307T190000
DTEND;TZID=America/New_York:20260307T210000
DTSTAMP:20260423T222556
CREATED:20250929T182148Z
LAST-MODIFIED:20250929T182148Z
UID:10000129-1772910000-1772917200@cca.hcde.org
SUMMARY:The Importance of Being Earnest
DESCRIPTION:
URL:https://cca.hcde.org/event/the-importance-of-being-earnest-2/
LOCATION:CCA\, 1301 Dallas Road\, Chattanooga\, TN\, 37405\, United States
END:VEVENT
BEGIN:VEVENT
DTSTART;TZID=America/New_York:20260306T190000
DTEND;TZID=America/New_York:20260306T210000
DTSTAMP:20260423T222556
CREATED:20250929T182116Z
LAST-MODIFIED:20250929T182116Z
UID:10000128-1772823600-1772830800@cca.hcde.org
SUMMARY:The Importance of Being Earnest
DESCRIPTION:
URL:https://cca.hcde.org/event/the-importance-of-being-earnest/
LOCATION:CCA\, 1301 Dallas Road\, Chattanooga\, TN\, 37405\, United States
END:VEVENT
BEGIN:VEVENT
DTSTART;TZID=America/New_York:20260303T190000
DTEND;TZID=America/New_York:20260303T210000
DTSTAMP:20260423T222556
CREATED:20260223T161352Z
LAST-MODIFIED:20260223T161352Z
UID:10000175-1772564400-1772571600@cca.hcde.org
SUMMARY:Talent Show
DESCRIPTION:
URL:https://cca.hcde.org/event/talent-show-2/
END:VEVENT
BEGIN:VEVENT
DTSTART;TZID=America/New_York:20260228T190000
DTEND;TZID=America/New_York:20260228T200000
DTSTAMP:20260423T222556
CREATED:20250929T182015Z
LAST-MODIFIED:20250929T182015Z
UID:10000127-1772305200-1772308800@cca.hcde.org
SUMMARY:Film Festival Awards Show
DESCRIPTION:
URL:https://cca.hcde.org/event/film-festival-awards-show/
LOCATION:CCA\, 1301 Dallas Road\, Chattanooga\, TN\, 37405\, United States
END:VEVENT
BEGIN:VEVENT
DTSTART;TZID=America/New_York:20260228T150000
DTEND;TZID=America/New_York:20260228T170000
DTSTAMP:20260423T222556
CREATED:20250929T181945Z
LAST-MODIFIED:20260202T190335Z
UID:10000126-1772290800-1772298000@cca.hcde.org
SUMMARY:Film Festival Screening
DESCRIPTION:
URL:https://cca.hcde.org/event/film-festival-screening/
LOCATION:CCA\, 1301 Dallas Road\, Chattanooga\, TN\, 37405\, United States
END:VEVENT
BEGIN:VEVENT
DTSTART;TZID=America/New_York:20260228T090000
DTEND;TZID=America/New_York:20260228T130000
DTSTAMP:20260423T222556
CREATED:20250929T181913Z
LAST-MODIFIED:20250929T181913Z
UID:10000125-1772269200-1772283600@cca.hcde.org
SUMMARY:Saturday School
DESCRIPTION:
URL:https://cca.hcde.org/event/saturday-school-5/
LOCATION:CCA\, 1301 Dallas Road\, Chattanooga\, TN\, 37405\, United States
END:VEVENT
BEGIN:VEVENT
DTSTART;TZID=America/New_York:20260226T190000
DTEND;TZID=America/New_York:20260227T210000
DTSTAMP:20260423T222556
CREATED:20250929T181844Z
LAST-MODIFIED:20250929T181844Z
UID:10000124-1772132400-1772226000@cca.hcde.org
SUMMARY:Black History Month Concert
DESCRIPTION:
URL:https://cca.hcde.org/event/black-history-month-concert/
END:VEVENT
BEGIN:VEVENT
DTSTART;TZID=America/New_York:20260224T173000
DTEND;TZID=America/New_York:20260224T190000
DTSTAMP:20260423T222556
CREATED:20250929T181730Z
LAST-MODIFIED:20250929T181730Z
UID:10000123-1771954200-1771959600@cca.hcde.org
SUMMARY:Art Gallery Opening
DESCRIPTION:
URL:https://cca.hcde.org/event/art-gallery-opening-3/
LOCATION:CCA\, 1301 Dallas Road\, Chattanooga\, TN\, 37405\, United States
END:VEVENT
BEGIN:VEVENT
DTSTART;TZID=America/New_York:20260224T170000
DTEND;TZID=America/New_York:20260224T180000
DTSTAMP:20260423T222556
CREATED:20260223T161243Z
LAST-MODIFIED:20260223T161243Z
UID:10000174-1771952400-1771956000@cca.hcde.org
SUMMARY:Rising Senior Parent Meeting
DESCRIPTION:
URL:https://cca.hcde.org/event/rising-senior-parent-meeting/
LOCATION:CCA\, 1301 Dallas Road\, Chattanooga\, TN\, 37405\, United States
END:VEVENT
BEGIN:VEVENT
DTSTART;TZID=America/New_York:20260221T173000
DTEND;TZID=America/New_York:20260221T200000
DTSTAMP:20260423T222556
CREATED:20250929T181653Z
LAST-MODIFIED:20260202T190234Z
UID:10000122-1771695000-1771704000@cca.hcde.org
SUMMARY:CoCA
DESCRIPTION:
URL:https://cca.hcde.org/event/coca/
LOCATION:CCA\, 1301 Dallas Road\, Chattanooga\, TN\, 37405\, United States
END:VEVENT
BEGIN:VEVENT
DTSTART;TZID=America/New_York:20260220T143000
DTEND;TZID=America/New_York:20260220T160000
DTSTAMP:20260423T222556
CREATED:20250929T181612Z
LAST-MODIFIED:20250929T181612Z
UID:10000121-1771597800-1771603200@cca.hcde.org
SUMMARY:CoCA Finale
DESCRIPTION:
URL:https://cca.hcde.org/event/coca-finale/
LOCATION:CCA\, 1301 Dallas Road\, Chattanooga\, TN\, 37405\, United States
END:VEVENT
BEGIN:VEVENT
DTSTART;VALUE=DATE:20260216
DTEND;VALUE=DATE:20260218
DTSTAMP:20260423T222556
CREATED:20250701T133101Z
LAST-MODIFIED:20260202T190143Z
UID:10000025-1771200000-1771372799@cca.hcde.org
SUMMARY:Presidents' Day / NO SCHOOL
DESCRIPTION:
URL:https://cca.hcde.org/event/presidents-day/
CATEGORIES:US Holiday
END:VEVENT
BEGIN:VEVENT
DTSTART;VALUE=DATE:20260214
DTEND;VALUE=DATE:20260216
DTSTAMP:20260423T222556
CREATED:20250701T133136Z
LAST-MODIFIED:20250701T133136Z
UID:10000037-1771027200-1771199999@cca.hcde.org
SUMMARY:Valentine's Day
DESCRIPTION:
URL:https://cca.hcde.org/event/valentines-day/
CATEGORIES:US Holiday
END:VEVENT
BEGIN:VEVENT
DTSTART;TZID=America/New_York:20260212T190000
DTEND;TZID=America/New_York:20260212T210000
DTSTAMP:20260423T222556
CREATED:20250929T181435Z
LAST-MODIFIED:20250929T181435Z
UID:10000120-1770922800-1770930000@cca.hcde.org
SUMMARY:Talent Show
DESCRIPTION:
URL:https://cca.hcde.org/event/talent-show/
LOCATION:CCA\, 1301 Dallas Road\, Chattanooga\, TN\, 37405\, United States
END:VEVENT
BEGIN:VEVENT
DTSTART;TZID=America/New_York:20260210T173000
DTEND;TZID=America/New_York:20260210T190000
DTSTAMP:20260423T222556
CREATED:20250929T181404Z
LAST-MODIFIED:20250929T181404Z
UID:10000119-1770744600-1770750000@cca.hcde.org
SUMMARY:Writer's Lounge
DESCRIPTION:
URL:https://cca.hcde.org/event/writers-lounge-2/
LOCATION:CCA\, 1301 Dallas Road\, Chattanooga\, TN\, 37405\, United States
END:VEVENT
BEGIN:VEVENT
DTSTART;TZID=America/New_York:20260206T190000
DTEND;TZID=America/New_York:20260207T210000
DTSTAMP:20260423T222556
CREATED:20250929T181326Z
LAST-MODIFIED:20260202T190004Z
UID:10000118-1770404400-1770498000@cca.hcde.org
SUMMARY:Dare to Dream: CCK Musical
DESCRIPTION:
URL:https://cca.hcde.org/event/dare-to-dream-cck-musical/
LOCATION:CCA\, 1301 Dallas Road\, Chattanooga\, TN\, 37405\, United States
END:VEVENT
BEGIN:VEVENT
DTSTART;VALUE=DATE:20260205
DTEND;VALUE=DATE:20260208
DTSTAMP:20260423T222556
CREATED:20250929T181244Z
LAST-MODIFIED:20250929T181244Z
UID:10000117-1770249600-1770508799@cca.hcde.org
SUMMARY:All East - Instrumental
DESCRIPTION:
URL:https://cca.hcde.org/event/all-east-instrumental/
LOCATION:CCA\, 1301 Dallas Road\, Chattanooga\, TN\, 37405\, United States
END:VEVENT
BEGIN:VEVENT
DTSTART;VALUE=DATE:20260202
DTEND;VALUE=DATE:20260204
DTSTAMP:20260423T222556
CREATED:20250701T123344Z
LAST-MODIFIED:20250701T123344Z
UID:10000014-1769990400-1770163199@cca.hcde.org
SUMMARY:Groundhog Day
DESCRIPTION:
URL:https://cca.hcde.org/event/groundhog-day/
CATEGORIES:US Holiday
END:VEVENT
BEGIN:VEVENT
DTSTART;TZID=America/New_York:20260130T150000
DTEND;TZID=America/New_York:20260130T160000
DTSTAMP:20260423T222556
CREATED:20250929T181203Z
LAST-MODIFIED:20250929T181203Z
UID:10000116-1769785200-1769788800@cca.hcde.org
SUMMARY:Finale
DESCRIPTION:
URL:https://cca.hcde.org/event/finale-2/
LOCATION:CCA\, 1301 Dallas Road\, Chattanooga\, TN\, 37405\, United States
END:VEVENT
BEGIN:VEVENT
DTSTART;VALUE=DATE:20260128
DTEND;VALUE=DATE:20260130
DTSTAMP:20260423T222556
CREATED:20250929T181126Z
LAST-MODIFIED:20250929T181126Z
UID:10000115-1769558400-1769731199@cca.hcde.org
SUMMARY:Talent Show Auditions
DESCRIPTION:
URL:https://cca.hcde.org/event/talent-show-auditions/
LOCATION:CCA\, 1301 Dallas Road\, Chattanooga\, TN\, 37405\, United States
END:VEVENT
BEGIN:VEVENT
DTSTART;TZID=America/New_York:20260123T180000
DTEND;TZID=America/New_York:20260123T200000
DTSTAMP:20260423T222556
CREATED:20250929T181059Z
LAST-MODIFIED:20250929T181059Z
UID:10000114-1769191200-1769198400@cca.hcde.org
SUMMARY:Improv Show
DESCRIPTION:
URL:https://cca.hcde.org/event/improv-show-2/
LOCATION:CCA\, 1301 Dallas Road\, Chattanooga\, TN\, 37405\, United States
END:VEVENT
BEGIN:VEVENT
DTSTART;VALUE=DATE:20260123
DTEND;VALUE=DATE:20260125
DTSTAMP:20260423T222556
CREATED:20250929T181018Z
LAST-MODIFIED:20250929T181018Z
UID:10000113-1769126400-1769299199@cca.hcde.org
SUMMARY:Jazz Clinic
DESCRIPTION:
URL:https://cca.hcde.org/event/jazz-clinic/
LOCATION:CCA\, 1301 Dallas Road\, Chattanooga\, TN\, 37405\, United States
END:VEVENT
BEGIN:VEVENT
DTSTART;TZID=America/New_York:20260122T190000
DTEND;TZID=America/New_York:20260122T210000
DTSTAMP:20260423T222556
CREATED:20250929T180949Z
LAST-MODIFIED:20250929T180949Z
UID:10000112-1769108400-1769115600@cca.hcde.org
SUMMARY:Jazz Band Concert
DESCRIPTION:
URL:https://cca.hcde.org/event/jazz-band-concert/
LOCATION:CCA\, 1301 Dallas Road\, Chattanooga\, TN\, 37405\, United States
END:VEVENT
BEGIN:VEVENT
DTSTART;VALUE=DATE:20260119
DTEND;VALUE=DATE:20260121
DTSTAMP:20260423T222556
CREATED:20250701T133055Z
LAST-MODIFIED:20250701T133055Z
UID:10000020-1768780800-1768953599@cca.hcde.org
SUMMARY:Martin Luther King Day
DESCRIPTION:
URL:https://cca.hcde.org/event/martin-luther-king-day/
CATEGORIES:US Holiday
END:VEVENT
BEGIN:VEVENT
DTSTART;TZID=America/New_York:20260116T180000
DTEND;TZID=America/New_York:20260116T200000
DTSTAMP:20260423T222556
CREATED:20250929T180914Z
LAST-MODIFIED:20250929T180914Z
UID:10000111-1768586400-1768593600@cca.hcde.org
SUMMARY:Improv Show
DESCRIPTION:
URL:https://cca.hcde.org/event/improv-show/
LOCATION:CCA\, 1301 Dallas Road\, Chattanooga\, TN\, 37405\, United States
END:VEVENT
BEGIN:VEVENT
DTSTART;TZID=America/New_York:20260116T150000
DTEND;TZID=America/New_York:20260116T160000
DTSTAMP:20260423T222556
CREATED:20250929T180844Z
LAST-MODIFIED:20250929T180844Z
UID:10000110-1768575600-1768579200@cca.hcde.org
SUMMARY:Arts Community Meetings
DESCRIPTION:
URL:https://cca.hcde.org/event/arts-community-meetings/
LOCATION:CCA\, 1301 Dallas Road\, Chattanooga\, TN\, 37405\, United States
END:VEVENT
END:VCALENDAR